BEGIN:VCALENDAR
VERSION:2.0
PRODID:-//ChamberMaster//Event Calendar 2.0//EN
METHOD:PUBLISH
X-PUBLISHED-TTL:P3D
REFRESH-INTERVAL:P3D
CALSCALE:GREGORIAN
BEGIN:VEVENT
DTSTART;VALUE=DATE:20230101
DTEND;VALUE=DATE:20310101
TRANSP:TRANSPARENT
X-MICROSOFT-CDO-ALLDAYEVENT:TRUE
SUMMARY:Additional Membership Representative Enrollment
DESCRIPTION:Enroll as an Additional Membership Representative and stay "in-the-know" - receive access to members-only communications and privileges:\n\n	RMAI Insights (Fall print & digital magazine)\n	RMAI Digital Dispatch (Spring digital publication)\n	RMAI Update (monthly e-newsletter)\n	Member Alerts\n	Compliance Resources\n	State Licensing Information\n	Membership Directory\n	Eligibility to Serve on RMAI Committees\, Task Forces & Working Groups\n\n\n\n(c) 2025 RMAI
X-ALT-DESC;FMTTYPE=text/html:Enroll as an Additional Membership Representative and stay &ldquo\;in-the-know&rdquo\; - receive access to members-only communications and privileges:\n<ul>\n	<li style="margin-left:0in\;"><em>RMAI Insights</em> (Fall print &amp\; digital magazine)</li>\n	<li style="margin-left:0in\;"><em>RMAI Digital Dispatch</em> (Spring digital publication)</li>\n	<li style="margin-left:0in\;"><em>RMAI Update</em> (monthly e-newsletter)</li>\n	<li style="margin-left:0in\;">Member Alerts</li>\n	<li style="margin-left:0in\;">Compliance Resources</li>\n	<li style="margin-left:0in\;">State Licensing Information</li>\n	<li style="margin-left:0in\;">Membership Directory</li>\n	<li style="margin-left:0in\;">Eligibility to Serve on RMAI Committees\, Task Forces &amp\; Working Groups</li>\n</ul>\n<br />\n(c) 2025 RMAI
LOCATION:
UID:e.9576.347
SEQUENCE:3
DTSTAMP:20260423T120012Z
URL:https://rmai.rmaintl.org/events/details/additional-membership-representative-enrollment-347
END:VEVENT

END:VCALENDAR
