BEGIN:VCALENDAR
VERSION:2.0
PRODID:-//ChamberMaster//Event Calendar 2.0//EN
METHOD:PUBLISH
X-PUBLISHED-TTL:P3D
REFRESH-INTERVAL:P3D
CALSCALE:GREGORIAN
BEGIN:VEVENT
DTSTART;VALUE=DATE:20180918
DTEND;VALUE=DATE:20190918
TRANSP:TRANSPARENT
X-MICROSOFT-CDO-ALLDAYEVENT:TRUE
SUMMARY:CCO: Issue Tracking - Recorded Webinar
DESCRIPTION:In this webinar you will hear about the different stages of maturity of a compliance program which is to a greatly defined by the culture your company has when it comes to compliance. An immature stage is often characterized by fear of openly identifying and escalating compliance issues. Learn how to create a culture where employees are encouraged to self- identify compliance issues and to escalate them appropriately whilst keeping your compliance issue management program manageable.
X-ALT-DESC;FMTTYPE=text/html:<p><span style="color:#262626\;">In this webinar you will hear about the different stages of maturity of a compliance program which is to a greatly defined by the culture your company has when it comes to compliance. An immature stage is often characterized by fear of openly identifying and escalating compliance issues. Learn how to create a culture where employees are encouraged to self- identify compliance issues and to escalate them appropriately whilst keeping your compliance issue management program manageable. </span><br />\n&nbsp\;</p>\n
LOCATION:
UID:e.9576.131
SEQUENCE:3
DTSTAMP:20260422T025741Z
URL:https://rmai.rmaintl.org/events/details/cco-issue-tracking-recorded-webinar-131
END:VEVENT

END:VCALENDAR
