BEGIN:VCALENDAR
VERSION:2.0
PRODID:-//ChamberMaster//Event Calendar 2.0//EN
METHOD:PUBLISH
X-PUBLISHED-TTL:P3D
REFRESH-INTERVAL:P3D
CALSCALE:GREGORIAN
BEGIN:VEVENT
DTSTART;VALUE=DATE:20251105
DTEND;VALUE=DATE:20261106
TRANSP:TRANSPARENT
X-MICROSOFT-CDO-ALLDAYEVENT:TRUE
SUMMARY:CCO Webinar Series: From Onboarding to Offboarding: Building Rock-Solid Vendor Partnerships in Collections - Recorded Webinar
DESCRIPTION:
X-ALT-DESC;FMTTYPE=text/html:
LOCATION:
UID:e.9576.473
SEQUENCE:3
DTSTAMP:20260423T052135Z
URL:https://rmai.rmaintl.org/events/details/cco-webinar-series-from-onboarding-to-offboarding-building-rock-solid-vendor-partnerships-in-collections-recorded-webinar-473
END:VEVENT

END:VCALENDAR
