BEGIN:VCALENDAR
VERSION:2.0
PRODID:-//ChamberMaster//Event Calendar 2.0//EN
METHOD:PUBLISH
X-PUBLISHED-TTL:P3D
REFRESH-INTERVAL:P3D
CALSCALE:GREGORIAN
BEGIN:VEVENT
DTSTART;VALUE=DATE:20231128
DTEND;VALUE=DATE:20241129
TRANSP:TRANSPARENT
X-MICROSOFT-CDO-ALLDAYEVENT:TRUE
SUMMARY:Certification Series: Ask an Authorized Audit Provider...Your Burning Questions Answered - Recorded Webinar
DESCRIPTION:
X-ALT-DESC;FMTTYPE=text/html:
LOCATION:
UID:e.9576.377
SEQUENCE:3
DTSTAMP:20260422T110342Z
URL:https://rmai.rmaintl.org/events/details/certification-series-ask-an-authorized-audit-provider-your-burning-questions-answered-recorded-webinar-377
END:VEVENT

END:VCALENDAR
