BEGIN:VCALENDAR
VERSION:2.0
PRODID:-//ChamberMaster//Event Calendar 2.0//EN
METHOD:PUBLISH
X-PUBLISHED-TTL:P3D
REFRESH-INTERVAL:P3D
CALSCALE:GREGORIAN
BEGIN:VEVENT
DTSTART;VALUE=DATE:20200827
DTEND;VALUE=DATE:20210828
TRANSP:TRANSPARENT
X-MICROSOFT-CDO-ALLDAYEVENT:TRUE
SUMMARY:Combating State Court Consumer Counterclaims - Recorded Webinar
DESCRIPTION:
X-ALT-DESC;FMTTYPE=text/html:
LOCATION:
UID:e.9576.233
SEQUENCE:3
DTSTAMP:20260423T105955Z
URL:https://rmai.rmaintl.org/events/details/combating-state-court-consumer-counterclaims-recorded-webinar-233
END:VEVENT

END:VCALENDAR
