BEGIN:VCALENDAR
VERSION:2.0
PRODID:-//ChamberMaster//Event Calendar 2.0//EN
METHOD:PUBLISH
X-PUBLISHED-TTL:P3D
REFRESH-INTERVAL:P3D
CALSCALE:GREGORIAN
BEGIN:VEVENT
DTSTART;VALUE=DATE:20250429
DTEND;VALUE=DATE:20260430
TRANSP:TRANSPARENT
X-MICROSOFT-CDO-ALLDAYEVENT:TRUE
SUMMARY:D.C. Download: Behind the Headlines on Capitol Hill\, CFPB\, and DOGE - Recorded Webinar
DESCRIPTION:
X-ALT-DESC;FMTTYPE=text/html:
LOCATION:
UID:e.9576.444
SEQUENCE:3
DTSTAMP:20260423T094953Z
URL:https://rmai.rmaintl.org/events/details/d-c-download-behind-the-headlines-on-capitol-hill-cfpb-and-doge-recorded-webinar-444
END:VEVENT

END:VCALENDAR
